BEGIN:VCALENDAR
VERSION:2.0
PRODID:-//Feuerwehr Alberschwende - ECPv6.15.20//NONSGML v1.0//EN
CALSCALE:GREGORIAN
METHOD:PUBLISH
X-WR-CALNAME:Feuerwehr Alberschwende
X-ORIGINAL-URL:https://www.feuerwehr-alberschwende.at
X-WR-CALDESC:Veranstaltungen für Feuerwehr Alberschwende
REFRESH-INTERVAL;VALUE=DURATION:PT1H
X-Robots-Tag:noindex
X-PUBLISHED-TTL:PT1H
BEGIN:VTIMEZONE
TZID:Europe/Vienna
BEGIN:DAYLIGHT
TZOFFSETFROM:+0100
TZOFFSETTO:+0200
TZNAME:CEST
DTSTART:20240331T010000
END:DAYLIGHT
BEGIN:STANDARD
TZOFFSETFROM:+0200
TZOFFSETTO:+0100
TZNAME:CET
DTSTART:20241027T010000
END:STANDARD
BEGIN:DAYLIGHT
TZOFFSETFROM:+0100
TZOFFSETTO:+0200
TZNAME:CEST
DTSTART:20250330T010000
END:DAYLIGHT
BEGIN:STANDARD
TZOFFSETFROM:+0200
TZOFFSETTO:+0100
TZNAME:CET
DTSTART:20251026T010000
END:STANDARD
BEGIN:DAYLIGHT
TZOFFSETFROM:+0100
TZOFFSETTO:+0200
TZNAME:CEST
DTSTART:20260329T010000
END:DAYLIGHT
BEGIN:STANDARD
TZOFFSETFROM:+0200
TZOFFSETTO:+0100
TZNAME:CET
DTSTART:20261025T010000
END:STANDARD
END:VTIMEZONE
BEGIN:VEVENT
DTSTART;TZID=Europe/Vienna:20250619T081500
DTEND;TZID=Europe/Vienna:20250619T170000
DTSTAMP:20260423T134718
CREATED:20250309T154831Z
LAST-MODIFIED:20250529T143710Z
UID:8896-1750320900-1750352400@www.feuerwehr-alberschwende.at
SUMMARY:Ausrückung Fronleichnam
DESCRIPTION:08:15 Treffpunkt hinter der Brauerei Adjustierung: Braune Uniform mit Helm
URL:https://www.feuerwehr-alberschwende.at/event/ausrueckung-fronleichnam-3/
END:VEVENT
BEGIN:VEVENT
DTSTART;TZID=Europe/Vienna:20250622T081500
DTEND;TZID=Europe/Vienna:20250622T170000
DTSTAMP:20260423T134718
CREATED:20250309T154954Z
LAST-MODIFIED:20250529T143644Z
UID:8898-1750580100-1750611600@www.feuerwehr-alberschwende.at
SUMMARY:Ausrückung Fronleichnam
DESCRIPTION:08:15 Treffpunkt hinter der Brauerei Adjustierung: Braune Uniform mit Helm
URL:https://www.feuerwehr-alberschwende.at/event/ausrueckung-fronleichnam-4/
END:VEVENT
BEGIN:VEVENT
DTSTART;VALUE=DATE:20250628
DTEND;VALUE=DATE:20250629
DTSTAMP:20260423T134718
CREATED:20250309T155127Z
LAST-MODIFIED:20250309T155127Z
UID:8904-1751068800-1751155199@www.feuerwehr-alberschwende.at
SUMMARY:Landesfeuerwehrleistungsbewerbe in Satteins
DESCRIPTION:
URL:https://www.feuerwehr-alberschwende.at/event/landesfeuerwehrleistungsbewerbe-in-satteins/
END:VEVENT
END:VCALENDAR