BEGIN:VCALENDAR
VERSION:2.0
PRODID:-//Feuerwehr Alberschwende - ECPv6.15.20//NONSGML v1.0//EN
CALSCALE:GREGORIAN
METHOD:PUBLISH
X-ORIGINAL-URL:https://www.feuerwehr-alberschwende.at
X-WR-CALDESC:Veranstaltungen für Feuerwehr Alberschwende
REFRESH-INTERVAL;VALUE=DURATION:PT1H
X-Robots-Tag:noindex
X-PUBLISHED-TTL:PT1H
BEGIN:VTIMEZONE
TZID:Europe/Vienna
BEGIN:DAYLIGHT
TZOFFSETFROM:+0100
TZOFFSETTO:+0200
TZNAME:CEST
DTSTART:20240331T010000
END:DAYLIGHT
BEGIN:STANDARD
TZOFFSETFROM:+0200
TZOFFSETTO:+0100
TZNAME:CET
DTSTART:20241027T010000
END:STANDARD
BEGIN:DAYLIGHT
TZOFFSETFROM:+0100
TZOFFSETTO:+0200
TZNAME:CEST
DTSTART:20250330T010000
END:DAYLIGHT
BEGIN:STANDARD
TZOFFSETFROM:+0200
TZOFFSETTO:+0100
TZNAME:CET
DTSTART:20251026T010000
END:STANDARD
BEGIN:DAYLIGHT
TZOFFSETFROM:+0100
TZOFFSETTO:+0200
TZNAME:CEST
DTSTART:20260329T010000
END:DAYLIGHT
BEGIN:STANDARD
TZOFFSETFROM:+0200
TZOFFSETTO:+0100
TZNAME:CET
DTSTART:20261025T010000
END:STANDARD
END:VTIMEZONE
BEGIN:VEVENT
DTSTART;VALUE=DATE:20250516
DTEND;VALUE=DATE:20250519
DTSTAMP:20260423T152420
CREATED:20250309T155202Z
LAST-MODIFIED:20250309T155202Z
UID:8907-1747353600-1747612799@www.feuerwehr-alberschwende.at
SUMMARY:Feuerwehrfest in Buch
DESCRIPTION:
URL:https://www.feuerwehr-alberschwende.at/event/feuerwehrfest-in-buch/
END:VEVENT
BEGIN:VEVENT
DTSTART;TZID=Europe/Vienna:20250518T113000
DTEND;TZID=Europe/Vienna:20250518T160000
DTSTAMP:20260423T152420
CREATED:20250529T142441Z
LAST-MODIFIED:20250529T142441Z
UID:8939-1747567800-1747584000@www.feuerwehr-alberschwende.at
SUMMARY:Festumzug in Buch
DESCRIPTION:11:30 Treffpunkt im Feuerwehrhaus Adjustierung: Braune Uniform mit Helm
URL:https://www.feuerwehr-alberschwende.at/event/festumzug-in-buch/
END:VEVENT
BEGIN:VEVENT
DTSTART;TZID=Europe/Vienna:20250521T200000
DTEND;TZID=Europe/Vienna:20250521T223000
DTSTAMP:20260423T152420
CREATED:20250309T153049Z
LAST-MODIFIED:20250309T153049Z
UID:8855-1747857600-1747866600@www.feuerwehr-alberschwende.at
SUMMARY:Zugsprobe 2. Zug Übung mit Bildstein
DESCRIPTION:Übung mit Bildstein 20:00
URL:https://www.feuerwehr-alberschwende.at/event/zugsprobe-2-zug-2-9-4/
CATEGORIES:Probe
END:VEVENT
BEGIN:VEVENT
DTSTART;TZID=Europe/Vienna:20250525T080000
DTEND;TZID=Europe/Vienna:20250525T130000
DTSTAMP:20260423T152420
CREATED:20250529T142528Z
LAST-MODIFIED:20250529T142528Z
UID:8941-1748160000-1748178000@www.feuerwehr-alberschwende.at
SUMMARY:Fahrzeugweihe beim Hatler Feuerwehrhaus
DESCRIPTION:08:00 Treffpunkt im Feuerwehrhaus Adjustierung: Braune Uniform mit Helm
URL:https://www.feuerwehr-alberschwende.at/event/fahrzeugweihe-beim-hatler-feuerwehrhaus/
END:VEVENT
BEGIN:VEVENT
DTSTART;TZID=Europe/Vienna:20250528T201500
DTEND;TZID=Europe/Vienna:20250528T223000
DTSTAMP:20260423T152420
CREATED:20250309T154148Z
LAST-MODIFIED:20250309T154227Z
UID:8883-1748463300-1748471400@www.feuerwehr-alberschwende.at
SUMMARY:Sommerprobe
DESCRIPTION:V: Rainer Bereuter\, Patrick Feurstein \nL: Oliver Sohm
URL:https://www.feuerwehr-alberschwende.at/event/sommerprobe-3/
CATEGORIES:Probe
END:VEVENT
END:VCALENDAR