BEGIN:VCALENDAR
VERSION:2.0
PRODID:-//Feuerwehr Alberschwende - ECPv6.15.20//NONSGML v1.0//EN
CALSCALE:GREGORIAN
METHOD:PUBLISH
X-ORIGINAL-URL:https://www.feuerwehr-alberschwende.at
X-WR-CALDESC:Veranstaltungen für Feuerwehr Alberschwende
REFRESH-INTERVAL;VALUE=DURATION:PT1H
X-Robots-Tag:noindex
X-PUBLISHED-TTL:PT1H
BEGIN:VTIMEZONE
TZID:Europe/Vienna
BEGIN:DAYLIGHT
TZOFFSETFROM:+0100
TZOFFSETTO:+0200
TZNAME:CEST
DTSTART:20230326T010000
END:DAYLIGHT
BEGIN:STANDARD
TZOFFSETFROM:+0200
TZOFFSETTO:+0100
TZNAME:CET
DTSTART:20231029T010000
END:STANDARD
BEGIN:DAYLIGHT
TZOFFSETFROM:+0100
TZOFFSETTO:+0200
TZNAME:CEST
DTSTART:20240331T010000
END:DAYLIGHT
BEGIN:STANDARD
TZOFFSETFROM:+0200
TZOFFSETTO:+0100
TZNAME:CET
DTSTART:20241027T010000
END:STANDARD
BEGIN:DAYLIGHT
TZOFFSETFROM:+0100
TZOFFSETTO:+0200
TZNAME:CEST
DTSTART:20250330T010000
END:DAYLIGHT
BEGIN:STANDARD
TZOFFSETFROM:+0200
TZOFFSETTO:+0100
TZNAME:CET
DTSTART:20251026T010000
END:STANDARD
END:VTIMEZONE
BEGIN:VEVENT
DTSTART;TZID=Europe/Vienna:20241204T200000
DTEND;TZID=Europe/Vienna:20241204T210000
DTSTAMP:20260423T225355
CREATED:20250107T185429Z
LAST-MODIFIED:20250107T185429Z
UID:8727-1733342400-1733346000@www.feuerwehr-alberschwende.at
SUMMARY:Funkprobe 1. Zug
DESCRIPTION:Leitung: FW Großdorf
URL:https://www.feuerwehr-alberschwende.at/event/funkprobe-1-zug-2-2/
LOCATION:Feuerwehrhaus\, Hof 979\, Alberschwende\, 6861\, Österreich
CATEGORIES:Probe
END:VEVENT
BEGIN:VEVENT
DTSTART;TZID=Europe/Vienna:20241207T201500
DTEND;TZID=Europe/Vienna:20241207T220000
DTSTAMP:20260423T225355
CREATED:20240303T173527Z
LAST-MODIFIED:20240303T173527Z
UID:8138-1733602500-1733608800@www.feuerwehr-alberschwende.at
SUMMARY:Jahreshauptversammlung 2024
DESCRIPTION:
URL:https://www.feuerwehr-alberschwende.at/event/jahreshauptversammlung-2024/
LOCATION:Feuerwehrhaus\, Hof 979\, Alberschwende\, 6861\, Österreich
END:VEVENT
END:VCALENDAR