BEGIN:VCALENDAR
VERSION:2.0
PRODID:-//Feuerwehr Alberschwende - ECPv6.15.20//NONSGML v1.0//EN
CALSCALE:GREGORIAN
METHOD:PUBLISH
X-ORIGINAL-URL:https://www.feuerwehr-alberschwende.at
X-WR-CALDESC:Veranstaltungen für Feuerwehr Alberschwende
REFRESH-INTERVAL;VALUE=DURATION:PT1H
X-Robots-Tag:noindex
X-PUBLISHED-TTL:PT1H
BEGIN:VTIMEZONE
TZID:Europe/Vienna
BEGIN:DAYLIGHT
TZOFFSETFROM:+0100
TZOFFSETTO:+0200
TZNAME:CEST
DTSTART:20230326T010000
END:DAYLIGHT
BEGIN:STANDARD
TZOFFSETFROM:+0200
TZOFFSETTO:+0100
TZNAME:CET
DTSTART:20231029T010000
END:STANDARD
BEGIN:DAYLIGHT
TZOFFSETFROM:+0100
TZOFFSETTO:+0200
TZNAME:CEST
DTSTART:20240331T010000
END:DAYLIGHT
BEGIN:STANDARD
TZOFFSETFROM:+0200
TZOFFSETTO:+0100
TZNAME:CET
DTSTART:20241027T010000
END:STANDARD
BEGIN:DAYLIGHT
TZOFFSETFROM:+0100
TZOFFSETTO:+0200
TZNAME:CEST
DTSTART:20250330T010000
END:DAYLIGHT
BEGIN:STANDARD
TZOFFSETFROM:+0200
TZOFFSETTO:+0100
TZNAME:CET
DTSTART:20251026T010000
END:STANDARD
END:VTIMEZONE
BEGIN:VEVENT
DTSTART;TZID=Europe/Vienna:20241002T200000
DTEND;TZID=Europe/Vienna:20241002T220000
DTSTAMP:20260424T015925
CREATED:20240303T171758Z
LAST-MODIFIED:20241001T055551Z
UID:8063-1727899200-1727906400@www.feuerwehr-alberschwende.at
SUMMARY:Zugsprobe 1. Zug - Zusatzübung Müselbach
DESCRIPTION:Beobachter: Heinz Kissling
URL:https://www.feuerwehr-alberschwende.at/event/zugsprobe-1-zug-3-7/
LOCATION:Feuerwehrhaus\, Hof 979\, Alberschwende\, 6861\, Österreich
CATEGORIES:Probe
END:VEVENT
BEGIN:VEVENT
DTSTART;TZID=Europe/Vienna:20241003T201500
DTEND;TZID=Europe/Vienna:20241003T220000
DTSTAMP:20260424T015925
CREATED:20240303T170820Z
LAST-MODIFIED:20241001T181753Z
UID:8072-1727986500-1727992800@www.feuerwehr-alberschwende.at
SUMMARY:Zugsprobe 2. Zug
DESCRIPTION:V+L: Lukas Metzler\, Karl Dür
URL:https://www.feuerwehr-alberschwende.at/event/zugsprobe-2-zug-2-7/
LOCATION:Feuerwehrhaus\, Hof 979\, Alberschwende\, 6861\, Österreich
CATEGORIES:Probe
END:VEVENT
BEGIN:VEVENT
DTSTART;TZID=Europe/Vienna:20241009T201500
DTEND;TZID=Europe/Vienna:20241009T220000
DTSTAMP:20260424T015925
CREATED:20240303T165956Z
LAST-MODIFIED:20240303T165956Z
UID:8090-1728504900-1728511200@www.feuerwehr-alberschwende.at
SUMMARY:Gesamtprobe
DESCRIPTION:V: Martin Dür\, Markus Schedler\nL: Markus Gmeiner
URL:https://www.feuerwehr-alberschwende.at/event/gesamtprobe-2-7/
LOCATION:Feuerwehrhaus\, Hof 979\, Alberschwende\, 6861\, Österreich
CATEGORIES:Probe
END:VEVENT
BEGIN:VEVENT
DTSTART;TZID=Europe/Vienna:20241014T200000
DTEND;TZID=Europe/Vienna:20241014T220000
DTSTAMP:20260424T015925
CREATED:20240303T170944Z
LAST-MODIFIED:20240303T170944Z
UID:8073-1728936000-1728943200@www.feuerwehr-alberschwende.at
SUMMARY:Zugsprobe 2. Zug - Zusatzübung Schwarzenberg
DESCRIPTION:Beobachter: Martin Dür
URL:https://www.feuerwehr-alberschwende.at/event/zugsprobe-2-zug-2-8/
LOCATION:Feuerwehrhaus\, Hof 979\, Alberschwende\, 6861\, Österreich
CATEGORIES:Probe
END:VEVENT
BEGIN:VEVENT
DTSTART;TZID=Europe/Vienna:20241015T201500
DTEND;TZID=Europe/Vienna:20241015T220000
DTSTAMP:20260424T015925
CREATED:20240303T171852Z
LAST-MODIFIED:20240303T171852Z
UID:8064-1729023300-1729029600@www.feuerwehr-alberschwende.at
SUMMARY:Zugsprobe 1. Zug
DESCRIPTION:V+L: Lukas Gmeiner\, Mathias Metzler
URL:https://www.feuerwehr-alberschwende.at/event/zugsprobe-1-zug-3-8/
LOCATION:Feuerwehrhaus\, Hof 979\, Alberschwende\, 6861\, Österreich
CATEGORIES:Probe
END:VEVENT
BEGIN:VEVENT
DTSTART;TZID=Europe/Vienna:20241022T195000
DTEND;TZID=Europe/Vienna:20241022T210000
DTSTAMP:20260424T015925
CREATED:20241020T095501Z
LAST-MODIFIED:20241020T095501Z
UID:8696-1729626600-1729630800@www.feuerwehr-alberschwende.at
SUMMARY:ÖFAST 2. Zug
DESCRIPTION:
URL:https://www.feuerwehr-alberschwende.at/event/oefast-2-zug/
LOCATION:Arena Alberschwende\, Hinterfeld 865\, Alberschwende\, 6861\, Österreich
END:VEVENT
BEGIN:VEVENT
DTSTART;TZID=Europe/Vienna:20241022T201500
DTEND;TZID=Europe/Vienna:20241022T220000
DTSTAMP:20260424T015925
CREATED:20240303T171942Z
LAST-MODIFIED:20240303T171942Z
UID:8065-1729628100-1729634400@www.feuerwehr-alberschwende.at
SUMMARY:Zugsprobe 1. Zug
DESCRIPTION:V+L: Simon Winder\, Felix Bereuter
URL:https://www.feuerwehr-alberschwende.at/event/zugsprobe-1-zug-3-9/
LOCATION:Feuerwehrhaus\, Hof 979\, Alberschwende\, 6861\, Österreich
CATEGORIES:Probe
END:VEVENT
BEGIN:VEVENT
DTSTART;TZID=Europe/Vienna:20241024T195000
DTEND;TZID=Europe/Vienna:20241024T210000
DTSTAMP:20260424T015925
CREATED:20241020T095414Z
LAST-MODIFIED:20241020T095414Z
UID:8698-1729799400-1729803600@www.feuerwehr-alberschwende.at
SUMMARY:ÖFAST 1. Zug
DESCRIPTION:
URL:https://www.feuerwehr-alberschwende.at/event/oefast-1-zug/
LOCATION:Arena Alberschwende\, Hinterfeld 865\, Alberschwende\, 6861\, Österreich
END:VEVENT
BEGIN:VEVENT
DTSTART;TZID=Europe/Vienna:20241024T201500
DTEND;TZID=Europe/Vienna:20241024T220000
DTSTAMP:20260424T015925
CREATED:20240303T171049Z
LAST-MODIFIED:20240303T171049Z
UID:8066-1729800900-1729807200@www.feuerwehr-alberschwende.at
SUMMARY:Zugsprobe 2. Zug
DESCRIPTION:V+L: Alfons Bereuter\, Martin Bereuter
URL:https://www.feuerwehr-alberschwende.at/event/zugsprobe-2-zug-2-9/
LOCATION:Feuerwehrhaus\, Hof 979\, Alberschwende\, 6861\, Österreich
CATEGORIES:Probe
END:VEVENT
BEGIN:VEVENT
DTSTART;TZID=Europe/Vienna:20241030T201500
DTEND;TZID=Europe/Vienna:20241030T220000
DTSTAMP:20260424T015925
CREATED:20240303T170120Z
LAST-MODIFIED:20240303T170120Z
UID:8091-1730319300-1730325600@www.feuerwehr-alberschwende.at
SUMMARY:Gesamtprobe
DESCRIPTION:V: Thomas Gmeiner\, Simon Winder\nL: Lukas Metzler
URL:https://www.feuerwehr-alberschwende.at/event/gesamtprobe-2-8/
LOCATION:Feuerwehrhaus\, Hof 979\, Alberschwende\, 6861\, Österreich
CATEGORIES:Probe
END:VEVENT
END:VCALENDAR