BEGIN:VCALENDAR
VERSION:2.0
PRODID:-//Feuerwehr Alberschwende - ECPv6.15.20//NONSGML v1.0//EN
CALSCALE:GREGORIAN
METHOD:PUBLISH
X-WR-CALNAME:Feuerwehr Alberschwende
X-ORIGINAL-URL:https://www.feuerwehr-alberschwende.at
X-WR-CALDESC:Veranstaltungen für Feuerwehr Alberschwende
REFRESH-INTERVAL;VALUE=DURATION:PT1H
X-Robots-Tag:noindex
X-PUBLISHED-TTL:PT1H
BEGIN:VTIMEZONE
TZID:Europe/Vienna
BEGIN:DAYLIGHT
TZOFFSETFROM:+0100
TZOFFSETTO:+0200
TZNAME:CEST
DTSTART:20230326T010000
END:DAYLIGHT
BEGIN:STANDARD
TZOFFSETFROM:+0200
TZOFFSETTO:+0100
TZNAME:CET
DTSTART:20231029T010000
END:STANDARD
BEGIN:DAYLIGHT
TZOFFSETFROM:+0100
TZOFFSETTO:+0200
TZNAME:CEST
DTSTART:20240331T010000
END:DAYLIGHT
BEGIN:STANDARD
TZOFFSETFROM:+0200
TZOFFSETTO:+0100
TZNAME:CET
DTSTART:20241027T010000
END:STANDARD
BEGIN:DAYLIGHT
TZOFFSETFROM:+0100
TZOFFSETTO:+0200
TZNAME:CEST
DTSTART:20250330T010000
END:DAYLIGHT
BEGIN:STANDARD
TZOFFSETFROM:+0200
TZOFFSETTO:+0100
TZNAME:CET
DTSTART:20251026T010000
END:STANDARD
END:VTIMEZONE
BEGIN:VEVENT
DTSTART;TZID=Europe/Vienna:20240911T201500
DTEND;TZID=Europe/Vienna:20240911T220000
DTSTAMP:20260424T033146
CREATED:20240303T165726Z
LAST-MODIFIED:20240303T165726Z
UID:8088-1726085700-1726092000@www.feuerwehr-alberschwende.at
SUMMARY:Gesamtprobe
DESCRIPTION:V: Klaus Winder\, Oliver Sohm\nL: Rainer Bereuter
URL:https://www.feuerwehr-alberschwende.at/event/gesamtprobe-2-5/
LOCATION:Feuerwehrhaus\, Hof 979\, Alberschwende\, 6861\, Österreich
CATEGORIES:Probe
END:VEVENT
BEGIN:VEVENT
DTSTART;TZID=Europe/Vienna:20240917T201500
DTEND;TZID=Europe/Vienna:20240917T220000
DTSTAMP:20260424T033146
CREATED:20240303T171611Z
LAST-MODIFIED:20240303T171611Z
UID:8062-1726604100-1726610400@www.feuerwehr-alberschwende.at
SUMMARY:Zugsprobe 1. Zug
DESCRIPTION:V+L: Markus Gmeiner\, Fabian Winder
URL:https://www.feuerwehr-alberschwende.at/event/zugsprobe-1-zug-3-6/
LOCATION:Feuerwehrhaus\, Hof 979\, Alberschwende\, 6861\, Österreich
CATEGORIES:Probe
END:VEVENT
BEGIN:VEVENT
DTSTART;TZID=Europe/Vienna:20240919T201500
DTEND;TZID=Europe/Vienna:20240919T220000
DTSTAMP:20260424T033146
CREATED:20240303T170727Z
LAST-MODIFIED:20240303T170727Z
UID:8071-1726776900-1726783200@www.feuerwehr-alberschwende.at
SUMMARY:Zugsprobe 2. Zug
DESCRIPTION:V+L: Martin Dür\, Norbert Schedler 61
URL:https://www.feuerwehr-alberschwende.at/event/zugsprobe-2-zug-2-6/
LOCATION:Feuerwehrhaus\, Hof 979\, Alberschwende\, 6861\, Österreich
CATEGORIES:Probe
END:VEVENT
BEGIN:VEVENT
DTSTART;VALUE=DATE:20240921
DTEND;VALUE=DATE:20240923
DTSTAMP:20260424T033146
CREATED:20240303T173836Z
LAST-MODIFIED:20240303T173836Z
UID:8140-1726876800-1727049599@www.feuerwehr-alberschwende.at
SUMMARY:Feuerwehrausflug
DESCRIPTION:
URL:https://www.feuerwehr-alberschwende.at/event/feuerwehrausflug-2/
END:VEVENT
BEGIN:VEVENT
DTSTART;TZID=Europe/Vienna:20240925T194500
DTEND;TZID=Europe/Vienna:20240925T220000
DTSTAMP:20260424T033146
CREATED:20240303T165857Z
LAST-MODIFIED:20240303T165857Z
UID:8089-1727293500-1727301600@www.feuerwehr-alberschwende.at
SUMMARY:Gesamtprobe - Zusatzübung Alberschwende
DESCRIPTION:Beobachter: Rainer Bereuter
URL:https://www.feuerwehr-alberschwende.at/event/gesamtprobe-2-6/
LOCATION:Feuerwehrhaus\, Hof 979\, Alberschwende\, 6861\, Österreich
CATEGORIES:Probe
END:VEVENT
END:VCALENDAR