BEGIN:VCALENDAR
VERSION:2.0
PRODID:-//Feuerwehr Alberschwende - ECPv6.15.20//NONSGML v1.0//EN
CALSCALE:GREGORIAN
METHOD:PUBLISH
X-WR-CALNAME:Feuerwehr Alberschwende
X-ORIGINAL-URL:https://www.feuerwehr-alberschwende.at
X-WR-CALDESC:Veranstaltungen für Feuerwehr Alberschwende
REFRESH-INTERVAL;VALUE=DURATION:PT1H
X-Robots-Tag:noindex
X-PUBLISHED-TTL:PT1H
BEGIN:VTIMEZONE
TZID:Europe/Vienna
BEGIN:DAYLIGHT
TZOFFSETFROM:+0100
TZOFFSETTO:+0200
TZNAME:CEST
DTSTART:20230326T010000
END:DAYLIGHT
BEGIN:STANDARD
TZOFFSETFROM:+0200
TZOFFSETTO:+0100
TZNAME:CET
DTSTART:20231029T010000
END:STANDARD
BEGIN:DAYLIGHT
TZOFFSETFROM:+0100
TZOFFSETTO:+0200
TZNAME:CEST
DTSTART:20240331T010000
END:DAYLIGHT
BEGIN:STANDARD
TZOFFSETFROM:+0200
TZOFFSETTO:+0100
TZNAME:CET
DTSTART:20241027T010000
END:STANDARD
BEGIN:DAYLIGHT
TZOFFSETFROM:+0100
TZOFFSETTO:+0200
TZNAME:CEST
DTSTART:20250330T010000
END:DAYLIGHT
BEGIN:STANDARD
TZOFFSETFROM:+0200
TZOFFSETTO:+0100
TZNAME:CET
DTSTART:20251026T010000
END:STANDARD
END:VTIMEZONE
BEGIN:VEVENT
DTSTART;TZID=Europe/Vienna:20240824T150000
DTEND;TZID=Europe/Vienna:20240825T020000
DTSTAMP:20260424T045711
CREATED:20240303T172205Z
LAST-MODIFIED:20240819T212752Z
UID:8122-1724511600-1724551200@www.feuerwehr-alberschwende.at
SUMMARY:8. Alpin-Nassbewerb 2024 mit Blaulichtclubbing
DESCRIPTION:
URL:https://www.feuerwehr-alberschwende.at/event/7-alpin-nassbewerb-2023-mit-blaulichtclubbing-2/
LOCATION:Arena Alberschwende\, Hinterfeld 865\, Alberschwende\, 6861\, Österreich
END:VEVENT
END:VCALENDAR