BEGIN:VCALENDAR
VERSION:2.0
PRODID:-//Feuerwehr Alberschwende - ECPv6.15.20//NONSGML v1.0//EN
CALSCALE:GREGORIAN
METHOD:PUBLISH
X-ORIGINAL-URL:https://www.feuerwehr-alberschwende.at
X-WR-CALDESC:Veranstaltungen für Feuerwehr Alberschwende
REFRESH-INTERVAL;VALUE=DURATION:PT1H
X-Robots-Tag:noindex
X-PUBLISHED-TTL:PT1H
BEGIN:VTIMEZONE
TZID:Europe/Vienna
BEGIN:DAYLIGHT
TZOFFSETFROM:+0100
TZOFFSETTO:+0200
TZNAME:CEST
DTSTART:20230326T010000
END:DAYLIGHT
BEGIN:STANDARD
TZOFFSETFROM:+0200
TZOFFSETTO:+0100
TZNAME:CET
DTSTART:20231029T010000
END:STANDARD
BEGIN:DAYLIGHT
TZOFFSETFROM:+0100
TZOFFSETTO:+0200
TZNAME:CEST
DTSTART:20240331T010000
END:DAYLIGHT
BEGIN:STANDARD
TZOFFSETFROM:+0200
TZOFFSETTO:+0100
TZNAME:CET
DTSTART:20241027T010000
END:STANDARD
BEGIN:DAYLIGHT
TZOFFSETFROM:+0100
TZOFFSETTO:+0200
TZNAME:CEST
DTSTART:20250330T010000
END:DAYLIGHT
BEGIN:STANDARD
TZOFFSETFROM:+0200
TZOFFSETTO:+0100
TZNAME:CET
DTSTART:20251026T010000
END:STANDARD
END:VTIMEZONE
BEGIN:VEVENT
DTSTART;TZID=Europe/Vienna:20240306T200000
DTEND;TZID=Europe/Vienna:20240306T220000
DTSTAMP:20260424T124919
CREATED:20231129T202901Z
LAST-MODIFIED:20231129T203417Z
UID:7945-1709755200-1709762400@www.feuerwehr-alberschwende.at
SUMMARY:Funkprobe 2. Zug
DESCRIPTION:Leitung: FW Andelsbuch
URL:https://www.feuerwehr-alberschwende.at/event/funkprobe-2-zug-2/
LOCATION:Feuerwehrhaus\, Hof 979\, Alberschwende\, 6861\, Österreich
CATEGORIES:Probe
END:VEVENT
BEGIN:VEVENT
DTSTART;TZID=Europe/Vienna:20240312T201500
DTEND;TZID=Europe/Vienna:20240312T220000
DTSTAMP:20260424T124919
CREATED:20240303T171237Z
LAST-MODIFIED:20240303T171237Z
UID:8058-1710274500-1710280800@www.feuerwehr-alberschwende.at
SUMMARY:Zugsprobe 1. Zug
DESCRIPTION:V+L: Heinz Kissling\, Florian Hopfner
URL:https://www.feuerwehr-alberschwende.at/event/zugsprobe-1-zug-3-2/
LOCATION:Feuerwehrhaus\, Hof 979\, Alberschwende\, 6861\, Österreich
CATEGORIES:Probe
END:VEVENT
BEGIN:VEVENT
DTSTART;TZID=Europe/Vienna:20240314T201500
DTEND;TZID=Europe/Vienna:20240314T220000
DTSTAMP:20260424T124919
CREATED:20240303T170320Z
LAST-MODIFIED:20240303T170320Z
UID:8067-1710447300-1710453600@www.feuerwehr-alberschwende.at
SUMMARY:Zugsprobe 2. Zug
DESCRIPTION:V+L: Markus Schneider\, Jürgen Bereuter
URL:https://www.feuerwehr-alberschwende.at/event/zugsprobe-2-zug-2-2/
LOCATION:Feuerwehrhaus\, Hof 979\, Alberschwende\, 6861\, Österreich
CATEGORIES:Probe
END:VEVENT
BEGIN:VEVENT
DTSTART;TZID=Europe/Vienna:20240320T201500
DTEND;TZID=Europe/Vienna:20240320T220000
DTSTAMP:20260424T124919
CREATED:20240303T165143Z
LAST-MODIFIED:20240314T064129Z
UID:8085-1710965700-1710972000@www.feuerwehr-alberschwende.at
SUMMARY:Gesamtprobe
DESCRIPTION:V: Markus Gmeiner\, Fabian Geser\nL: Martin Dür
URL:https://www.feuerwehr-alberschwende.at/event/gesamtprobe-2-2/
LOCATION:Feuerwehrhaus\, Hof 979\, Alberschwende\, 6861\, Österreich
CATEGORIES:Probe
END:VEVENT
BEGIN:VEVENT
DTSTART;TZID=Europe/Vienna:20240325T200000
DTEND;TZID=Europe/Vienna:20240325T220000
DTSTAMP:20260424T124919
CREATED:20240303T170426Z
LAST-MODIFIED:20240303T170426Z
UID:8068-1711396800-1711404000@www.feuerwehr-alberschwende.at
SUMMARY:Zugsprobe 2. Zug - Zusatzübung Egg
DESCRIPTION:Beobachter: Lukas Metzler
URL:https://www.feuerwehr-alberschwende.at/event/zugsprobe-2-zug-2-3/
LOCATION:Feuerwehrhaus\, Hof 979\, Alberschwende\, 6861\, Österreich
CATEGORIES:Probe
END:VEVENT
BEGIN:VEVENT
DTSTART;TZID=Europe/Vienna:20240326T201500
DTEND;TZID=Europe/Vienna:20240326T220000
DTSTAMP:20260424T124919
CREATED:20240303T171322Z
LAST-MODIFIED:20240303T171322Z
UID:8059-1711484100-1711490400@www.feuerwehr-alberschwende.at
SUMMARY:Zugsprobe 1. Zug
DESCRIPTION:V+L: Rainer Bereuter\, Jakob Winder
URL:https://www.feuerwehr-alberschwende.at/event/zugsprobe-1-zug-3-3/
LOCATION:Feuerwehrhaus\, Hof 979\, Alberschwende\, 6861\, Österreich
CATEGORIES:Probe
END:VEVENT
END:VCALENDAR