BEGIN:VCALENDAR
VERSION:2.0
PRODID:-//Feuerwehr Alberschwende - ECPv6.15.20//NONSGML v1.0//EN
CALSCALE:GREGORIAN
METHOD:PUBLISH
X-ORIGINAL-URL:https://www.feuerwehr-alberschwende.at
X-WR-CALDESC:Veranstaltungen für Feuerwehr Alberschwende
REFRESH-INTERVAL;VALUE=DURATION:PT1H
X-Robots-Tag:noindex
X-PUBLISHED-TTL:PT1H
BEGIN:VTIMEZONE
TZID:Europe/Vienna
BEGIN:DAYLIGHT
TZOFFSETFROM:+0100
TZOFFSETTO:+0200
TZNAME:CEST
DTSTART:20220327T010000
END:DAYLIGHT
BEGIN:STANDARD
TZOFFSETFROM:+0200
TZOFFSETTO:+0100
TZNAME:CET
DTSTART:20221030T010000
END:STANDARD
BEGIN:DAYLIGHT
TZOFFSETFROM:+0100
TZOFFSETTO:+0200
TZNAME:CEST
DTSTART:20230326T010000
END:DAYLIGHT
BEGIN:STANDARD
TZOFFSETFROM:+0200
TZOFFSETTO:+0100
TZNAME:CET
DTSTART:20231029T010000
END:STANDARD
BEGIN:DAYLIGHT
TZOFFSETFROM:+0100
TZOFFSETTO:+0200
TZNAME:CEST
DTSTART:20240331T010000
END:DAYLIGHT
BEGIN:STANDARD
TZOFFSETFROM:+0200
TZOFFSETTO:+0100
TZNAME:CET
DTSTART:20241027T010000
END:STANDARD
END:VTIMEZONE
BEGIN:VEVENT
DTSTART;TZID=Europe/Vienna:20231107T201500
DTEND;TZID=Europe/Vienna:20231107T220000
DTSTAMP:20260424T191237
CREATED:20230515T191209Z
LAST-MODIFIED:20230515T191353Z
UID:6911-1699388100-1699394400@www.feuerwehr-alberschwende.at
SUMMARY:Zugsprobe 1. Zug
DESCRIPTION:V+L: Rainer Bereuter\, Jakob Winder
URL:https://www.feuerwehr-alberschwende.at/event/zugsprobe-1-zug-3/
LOCATION:Feuerwehrhaus\, Hof 979\, Alberschwende\, 6861\, Österreich
CATEGORIES:Probe
END:VEVENT
BEGIN:VEVENT
DTSTART;TZID=Europe/Vienna:20231108T201500
DTEND;TZID=Europe/Vienna:20231108T220000
DTSTAMP:20260424T191237
CREATED:20231106T175924Z
LAST-MODIFIED:20231106T180001Z
UID:7891-1699474500-1699480800@www.feuerwehr-alberschwende.at
SUMMARY:Funkprobe 1. Zug
DESCRIPTION:
URL:https://www.feuerwehr-alberschwende.at/event/funkprobe-1-zug/
LOCATION:Feuerwehrhaus\, Hof 979\, Alberschwende\, 6861\, Österreich
CATEGORIES:Probe
END:VEVENT
BEGIN:VEVENT
DTSTART;TZID=Europe/Vienna:20231109T201500
DTEND;TZID=Europe/Vienna:20231109T220000
DTSTAMP:20260424T191237
CREATED:20230515T191244Z
LAST-MODIFIED:20231106T180010Z
UID:6913-1699560900-1699567200@www.feuerwehr-alberschwende.at
SUMMARY:Zugsprobe 2. Zug
DESCRIPTION:V+L: Martin Dür\, Oliver Sohm
URL:https://www.feuerwehr-alberschwende.at/event/zugsprobe-2-zug-2/
LOCATION:Feuerwehrhaus\, Hof 979\, Alberschwende\, 6861\, Österreich
CATEGORIES:Probe
END:VEVENT
BEGIN:VEVENT
DTSTART;TZID=Europe/Vienna:20231115T201500
DTEND;TZID=Europe/Vienna:20231115T220000
DTSTAMP:20260424T191237
CREATED:20230515T191313Z
LAST-MODIFIED:20230515T191352Z
UID:6915-1700079300-1700085600@www.feuerwehr-alberschwende.at
SUMMARY:Schulungsabend
DESCRIPTION:
URL:https://www.feuerwehr-alberschwende.at/event/schulungsabend/
LOCATION:Feuerwehrhaus\, Hof 979\, Alberschwende\, 6861\, Österreich
CATEGORIES:Probe
END:VEVENT
END:VCALENDAR