BEGIN:VCALENDAR
VERSION:2.0
PRODID:-//Feuerwehr Alberschwende - ECPv6.15.20//NONSGML v1.0//EN
CALSCALE:GREGORIAN
METHOD:PUBLISH
X-WR-CALNAME:Feuerwehr Alberschwende
X-ORIGINAL-URL:https://www.feuerwehr-alberschwende.at
X-WR-CALDESC:Veranstaltungen für Feuerwehr Alberschwende
REFRESH-INTERVAL;VALUE=DURATION:PT1H
X-Robots-Tag:noindex
X-PUBLISHED-TTL:PT1H
BEGIN:VTIMEZONE
TZID:Europe/Vienna
BEGIN:DAYLIGHT
TZOFFSETFROM:+0100
TZOFFSETTO:+0200
TZNAME:CEST
DTSTART:20220327T010000
END:DAYLIGHT
BEGIN:STANDARD
TZOFFSETFROM:+0200
TZOFFSETTO:+0100
TZNAME:CET
DTSTART:20221030T010000
END:STANDARD
BEGIN:DAYLIGHT
TZOFFSETFROM:+0100
TZOFFSETTO:+0200
TZNAME:CEST
DTSTART:20230326T010000
END:DAYLIGHT
BEGIN:STANDARD
TZOFFSETFROM:+0200
TZOFFSETTO:+0100
TZNAME:CET
DTSTART:20231029T010000
END:STANDARD
BEGIN:DAYLIGHT
TZOFFSETFROM:+0100
TZOFFSETTO:+0200
TZNAME:CEST
DTSTART:20240331T010000
END:DAYLIGHT
BEGIN:STANDARD
TZOFFSETFROM:+0200
TZOFFSETTO:+0100
TZNAME:CET
DTSTART:20241027T010000
END:STANDARD
END:VTIMEZONE
BEGIN:VEVENT
DTSTART;TZID=Europe/Vienna:20231003T201500
DTEND;TZID=Europe/Vienna:20231003T220000
DTSTAMP:20260424T204205
CREATED:20230515T190651Z
LAST-MODIFIED:20230515T191355Z
UID:6899-1696364100-1696370400@www.feuerwehr-alberschwende.at
SUMMARY:Zugsprobe 1. Zug
DESCRIPTION:V+L: Heinz Kissling\, Jürgen Sutterlüty
URL:https://www.feuerwehr-alberschwende.at/event/zugsprobe-1-zug-2/
LOCATION:Feuerwehrhaus\, Hof 979\, Alberschwende\, 6861\, Österreich
CATEGORIES:Probe
END:VEVENT
BEGIN:VEVENT
DTSTART;TZID=Europe/Vienna:20231003T201500
DTEND;TZID=Europe/Vienna:20231003T220000
DTSTAMP:20260424T204205
CREATED:20230921T205914Z
LAST-MODIFIED:20230921T205940Z
UID:7813-1696364100-1696370400@www.feuerwehr-alberschwende.at
SUMMARY:ÖFAST 2. Zug
DESCRIPTION:
URL:https://www.feuerwehr-alberschwende.at/event/oefast-zug-2/
LOCATION:Arena Alberschwende\, Hinterfeld 865\, Alberschwende\, 6861\, Österreich
CATEGORIES:Probe
END:VEVENT
BEGIN:VEVENT
DTSTART;TZID=Europe/Vienna:20231006T200000
DTEND;TZID=Europe/Vienna:20231006T220000
DTSTAMP:20260424T204205
CREATED:20230515T190747Z
LAST-MODIFIED:20230515T191354Z
UID:6901-1696622400-1696629600@www.feuerwehr-alberschwende.at
SUMMARY:Zugsprobe 2. Zug - Zusatzübung Müselbach
DESCRIPTION:Beob: Martin Dür
URL:https://www.feuerwehr-alberschwende.at/event/zugsprobe-2-zug-zusatzuebung-mueselbach/
LOCATION:Feuerwehrhaus\, Hof 979\, Alberschwende\, 6861\, Österreich
CATEGORIES:Probe
END:VEVENT
BEGIN:VEVENT
DTSTART;TZID=Europe/Vienna:20231009T201500
DTEND;TZID=Europe/Vienna:20231009T220000
DTSTAMP:20260424T204205
CREATED:20230515T190844Z
LAST-MODIFIED:20230515T191354Z
UID:6903-1696882500-1696888800@www.feuerwehr-alberschwende.at
SUMMARY:Zugsprobe 1. Zug - Zusatzübung Schwarzenberg
DESCRIPTION:Beob: Heinz Kissling
URL:https://www.feuerwehr-alberschwende.at/event/zugsprobe-1-zug-zusatzuebung-schwarzenberg/
LOCATION:Feuerwehrhaus\, Hof 979\, Alberschwende\, 6861\, Österreich
CATEGORIES:Probe
END:VEVENT
BEGIN:VEVENT
DTSTART;TZID=Europe/Vienna:20231012T201500
DTEND;TZID=Europe/Vienna:20231012T220000
DTSTAMP:20260424T204205
CREATED:20230515T190952Z
LAST-MODIFIED:20230515T191354Z
UID:6905-1697141700-1697148000@www.feuerwehr-alberschwende.at
SUMMARY:Zugsprobe 2. Zug
DESCRIPTION:V+L: Klaus Winder\, Jürgen Bereuter
URL:https://www.feuerwehr-alberschwende.at/event/zugsprobe-2-zug/
LOCATION:Feuerwehrhaus\, Hof 979\, Alberschwende\, 6861\, Österreich
CATEGORIES:Probe
END:VEVENT
BEGIN:VEVENT
DTSTART;TZID=Europe/Vienna:20231012T201500
DTEND;TZID=Europe/Vienna:20231012T220000
DTSTAMP:20260424T204205
CREATED:20230921T210038Z
LAST-MODIFIED:20230921T210038Z
UID:7816-1697141700-1697148000@www.feuerwehr-alberschwende.at
SUMMARY:ÖFAST 1. Zug
DESCRIPTION:
URL:https://www.feuerwehr-alberschwende.at/event/oefast-zug-1/
LOCATION:Arena Alberschwende\, Hinterfeld 865\, Alberschwende\, 6861\, Österreich
CATEGORIES:Probe
END:VEVENT
BEGIN:VEVENT
DTSTART;TZID=Europe/Vienna:20231018T201500
DTEND;TZID=Europe/Vienna:20231018T220000
DTSTAMP:20260424T204205
CREATED:20230515T191044Z
LAST-MODIFIED:20230515T191354Z
UID:6907-1697660100-1697666400@www.feuerwehr-alberschwende.at
SUMMARY:Gesamtprobe
DESCRIPTION:V: Martin Dür\, Lukas Bereuter\nL: Markus Gmeiner
URL:https://www.feuerwehr-alberschwende.at/event/gesamtprobe-2/
LOCATION:Feuerwehrhaus\, Hof 979\, Alberschwende\, 6861\, Österreich
CATEGORIES:Probe
END:VEVENT
BEGIN:VEVENT
DTSTART;TZID=Europe/Vienna:20231025T201500
DTEND;TZID=Europe/Vienna:20231025T220000
DTSTAMP:20260424T204205
CREATED:20230515T191131Z
LAST-MODIFIED:20230515T191353Z
UID:6909-1698264900-1698271200@www.feuerwehr-alberschwende.at
SUMMARY:Gesamtprobe
DESCRIPTION:V: Klaus Winder\, Norbert Schedler 61\nL: Rainer Bereuter
URL:https://www.feuerwehr-alberschwende.at/event/gesamtprobe-3/
LOCATION:Feuerwehrhaus\, Hof 979\, Alberschwende\, 6861\, Österreich
CATEGORIES:Probe
END:VEVENT
END:VCALENDAR