BEGIN:VCALENDAR
VERSION:2.0
PRODID:-//Feuerwehr Alberschwende - ECPv6.15.20//NONSGML v1.0//EN
CALSCALE:GREGORIAN
METHOD:PUBLISH
X-ORIGINAL-URL:https://www.feuerwehr-alberschwende.at
X-WR-CALDESC:Veranstaltungen für Feuerwehr Alberschwende
REFRESH-INTERVAL;VALUE=DURATION:PT1H
X-Robots-Tag:noindex
X-PUBLISHED-TTL:PT1H
BEGIN:VTIMEZONE
TZID:Europe/Vienna
BEGIN:DAYLIGHT
TZOFFSETFROM:+0100
TZOFFSETTO:+0200
TZNAME:CEST
DTSTART:20220327T010000
END:DAYLIGHT
BEGIN:STANDARD
TZOFFSETFROM:+0200
TZOFFSETTO:+0100
TZNAME:CET
DTSTART:20221030T010000
END:STANDARD
BEGIN:DAYLIGHT
TZOFFSETFROM:+0100
TZOFFSETTO:+0200
TZNAME:CEST
DTSTART:20230326T010000
END:DAYLIGHT
BEGIN:STANDARD
TZOFFSETFROM:+0200
TZOFFSETTO:+0100
TZNAME:CET
DTSTART:20231029T010000
END:STANDARD
BEGIN:DAYLIGHT
TZOFFSETFROM:+0100
TZOFFSETTO:+0200
TZNAME:CEST
DTSTART:20240331T010000
END:DAYLIGHT
BEGIN:STANDARD
TZOFFSETFROM:+0200
TZOFFSETTO:+0100
TZNAME:CET
DTSTART:20241027T010000
END:STANDARD
END:VTIMEZONE
BEGIN:VEVENT
DTSTART;TZID=Europe/Vienna:20230913T201500
DTEND;TZID=Europe/Vienna:20230913T220000
DTSTAMP:20260424T221729
CREATED:20230515T190359Z
LAST-MODIFIED:20230515T191356Z
UID:6893-1694636100-1694642400@www.feuerwehr-alberschwende.at
SUMMARY:Gesamtprobe
DESCRIPTION:V: Alfons Bereuter\, Herbert Gmeiner\nL: Michael Barta
URL:https://www.feuerwehr-alberschwende.at/event/gesamtprobe/
LOCATION:Feuerwehrhaus\, Hof 979\, Alberschwende\, 6861\, Österreich
CATEGORIES:Probe
END:VEVENT
BEGIN:VEVENT
DTSTART;TZID=Europe/Vienna:20230919T200000
DTEND;TZID=Europe/Vienna:20230919T220000
DTSTAMP:20260424T221729
CREATED:20230515T190512Z
LAST-MODIFIED:20230913T205027Z
UID:6895-1695153600-1695160800@www.feuerwehr-alberschwende.at
SUMMARY:Gesamtprobe Tunnel
DESCRIPTION:V+L: Lukas Gmeiner\, Fabian Winder
URL:https://www.feuerwehr-alberschwende.at/event/zugsprobe-1-zug/
LOCATION:Feuerwehrhaus\, Hof 979\, Alberschwende\, 6861\, Österreich
CATEGORIES:Probe
END:VEVENT
BEGIN:VEVENT
DTSTART;TZID=Europe/Vienna:20230923T073000
DTEND;TZID=Europe/Vienna:20230923T210000
DTSTAMP:20260424T221729
CREATED:20230621T100633Z
LAST-MODIFIED:20230621T100633Z
UID:7672-1695454200-1695502800@www.feuerwehr-alberschwende.at
SUMMARY:Feuerwehrausflug
DESCRIPTION:
URL:https://www.feuerwehr-alberschwende.at/event/feuerwehrausflug/
END:VEVENT
BEGIN:VEVENT
DTSTART;TZID=Europe/Vienna:20230927T194500
DTEND;TZID=Europe/Vienna:20230927T220000
DTSTAMP:20260424T221729
CREATED:20230515T190612Z
LAST-MODIFIED:20230515T191355Z
UID:6897-1695843900-1695852000@www.feuerwehr-alberschwende.at
SUMMARY:Gesamtprobe - Zusatzübung Alberschwende
DESCRIPTION:Beob: Alfons Bereuter
URL:https://www.feuerwehr-alberschwende.at/event/gesamtprobe-zusatzuebung-alberschwende/
LOCATION:Feuerwehrhaus\, Hof 979\, Alberschwende\, 6861\, Österreich
CATEGORIES:Probe
END:VEVENT
END:VCALENDAR